BEGIN:VCALENDAR
VERSION:2.0
PRODID:-//Oikeos Christian Network - ECPv6.15.20//NONSGML v1.0//EN
CALSCALE:GREGORIAN
METHOD:PUBLISH
X-WR-CALNAME:Oikeos Christian Network
X-ORIGINAL-URL:https://oikeos.org
X-WR-CALDESC:Events for Oikeos Christian Network
REFRESH-INTERVAL;VALUE=DURATION:PT1H
X-Robots-Tag:noindex
X-PUBLISHED-TTL:PT1H
BEGIN:VTIMEZONE
TZID:UTC
BEGIN:STANDARD
TZOFFSETFROM:+0000
TZOFFSETTO:+0000
TZNAME:UTC
DTSTART:20250101T000000
END:STANDARD
END:VTIMEZONE
BEGIN:VEVENT
DTSTART;TZID=UTC:20260425T100000
DTEND;TZID=UTC:20260425T160000
DTSTAMP:20260419T161440
CREATED:20260227T153124Z
LAST-MODIFIED:20260407T174124Z
UID:10000105-1777111200-1777132800@oikeos.org
SUMMARY:The Land: Stage of God's Story Lima OH
DESCRIPTION:DATE \nSaturday\, April 25\, 2026 \nSCHEDULE \n10:00 a.m. to 4:00 p.m. \nLOCATION \nCourtyard by Marriott (Abrams Room)\, 936 Greely Chapel Rd.\, Lima OH 45804 \nHOTEL ACCOMMODATIONS \nIf anyone would like to reserve a room with the hotel\, they will offer a discounted rate of $99 per night to participants of this course. Reservations are to be made with Courtyard by Marriott Lima. \nMEAL \nWe will break for lunch. Lunch is not provided. There are numerous restaurants within a 5-minute drive from the hotel. This will be a great opportunity to get together with new or old friends from the conference to break bread and fellowship. It’s also available to bring your own lunch and eat in the hotel lobby. \nREGISTRATION INFORMATION \nRegistration fee is $10. \nTo register\, visit: info@drawnearfellowship.org. \nGENERAL INFORMATION \nFor further inquiries\, please contact Chris Brown at chris.brown@oikeos.org.  \nWe ask that you plan to arrive early at the location per schedule and bring a Bible and note-taking materials. Recordings of the course are not permitted. \nThank you! \nOIKEOS Christian Network
URL:https://oikeos.org/event/the-land-stage-of-gods-story-lima-oh/
LOCATION:Courtyard by Marriott\, Lima OH\, 936 Greely Chapel Rd.\, Lima\, OH\, 45804\, United States
CATEGORIES:The Land: Stage of God's Story
ORGANIZER;CN="Draw Near Fellowship":MAILTO:info@drawnearfellowship.org
END:VEVENT
END:VCALENDAR