BEGIN:VCALENDAR
VERSION:2.0
PRODID:-//Oikeos Christian Network - ECPv6.15.20//NONSGML v1.0//EN
CALSCALE:GREGORIAN
METHOD:PUBLISH
X-WR-CALNAME:Oikeos Christian Network
X-ORIGINAL-URL:https://oikeos.org
X-WR-CALDESC:Events for Oikeos Christian Network
REFRESH-INTERVAL;VALUE=DURATION:PT1H
X-Robots-Tag:noindex
X-PUBLISHED-TTL:PT1H
BEGIN:VTIMEZONE
TZID:America/New_York
BEGIN:DAYLIGHT
TZOFFSETFROM:-0500
TZOFFSETTO:-0400
TZNAME:EDT
DTSTART:20250309T070000
END:DAYLIGHT
BEGIN:STANDARD
TZOFFSETFROM:-0400
TZOFFSETTO:-0500
TZNAME:EST
DTSTART:20251102T060000
END:STANDARD
BEGIN:DAYLIGHT
TZOFFSETFROM:-0500
TZOFFSETTO:-0400
TZNAME:EDT
DTSTART:20260308T070000
END:DAYLIGHT
BEGIN:STANDARD
TZOFFSETFROM:-0400
TZOFFSETTO:-0500
TZNAME:EST
DTSTART:20261101T060000
END:STANDARD
BEGIN:DAYLIGHT
TZOFFSETFROM:-0500
TZOFFSETTO:-0400
TZNAME:EDT
DTSTART:20270314T070000
END:DAYLIGHT
BEGIN:STANDARD
TZOFFSETFROM:-0400
TZOFFSETTO:-0500
TZNAME:EST
DTSTART:20271107T060000
END:STANDARD
END:VTIMEZONE
BEGIN:VTIMEZONE
TZID:UTC
BEGIN:STANDARD
TZOFFSETFROM:+0000
TZOFFSETTO:+0000
TZNAME:UTC
DTSTART:20250101T000000
END:STANDARD
END:VTIMEZONE
BEGIN:VEVENT
DTSTART;TZID=America/New_York:20260516T090000
DTEND;TZID=America/New_York:20260517T120000
DTSTAMP:20260421T101330
CREATED:20260420T215240Z
LAST-MODIFIED:20260420T215240Z
UID:10000112-1778922000-1779019200@oikeos.org
SUMMARY:Who is Jesus Christ? Longmont CO
DESCRIPTION:WHAT YOU’LL BE LEARNING\nJesus Christ is the most admired and awe-inspiring figure in all of history — yet\, in many ways\, still the most misunderstood. Even during his days on earth\, people from every walk of life wondered and debated about who he truly was. \nJoin us for the “Who Is Jesus Christ?” course and experience a fresh perspective on the meaning behind the title “Lord Jesus Christ.” Discover how understanding this truth can transform you through faith and deepen your daily walk with God. \nDon’t miss this inspiring event in Longmont\, Colorado. Sign up today — and take the next step in discovering who Jesus Christ really is. \nDATES & LOGISTICS\nContact Ed Hobbs (ed.hobbs@oikeos.org) or Cathy Hobbs (cathy.hobbs@oikeos.org) to register. \nSaturday\, May 16\, 2026\, 9:00 a.m. – 4:00 p.m. MDT\nSunday\, May 17\, 2026\, 8:30 a.m. – 11:30 a.m. MDT \nLunch will be provided on Saturday. \nLOCATION \nFairfield by Marriott Inn & Suites Boulder Longmont\n1089 S. Hover St.\nLongmont CO 80501\n(303) 776-8050 \nGENERAL INFORMATION \nThis course has a participation limit of 30 people. It will be first come\, first served.  \nPlease register by Saturday\, May 9\, 2026. \nFor more information on this course or over site housing recommendations\, please contact Ed Hobbs at ed.hobbs@oikeos.org. \nWe ask that you plan to arrive early at the location per schedule and bring a Bible and note-taking materials. Recordings of the course are not permitted. \nThank you\,\nOIKEOS Christian Network
URL:https://oikeos.org/event/who-is-jesus-christ-longmont-co/
LOCATION:Fairfield by Marriott Inn & Suites Boulder Longmont CO\, 1089 S. Hover St.\, Longmont\, 80501\, United States
CATEGORIES:Courses,Who is Jesus Christ?
ATTACH;FMTTYPE=image/jpeg:https://oikeos.org/wp-content/uploads/2026/01/who-is-jesus-christ.jpg
ORGANIZER;CN="Ed Hobbs":MAILTO:ed.hobbs@oikeos.org
END:VEVENT
BEGIN:VEVENT
DTSTART;VALUE=DATE:20260619
DTEND;VALUE=DATE:20260622
DTSTAMP:20260421T101330
CREATED:20260313T174047Z
LAST-MODIFIED:20260420T221406Z
UID:10000108-1781827200-1782086399@oikeos.org
SUMMARY:Our Stand in Christ Helena MT
DESCRIPTION:Our Stand in Christ is a powerful biblical education course designed to open your eyes to the reality of the spiritual competition between good and evil. Through this study\, you’ll gain a deeper understanding of our spiritual adversary — revealed and exposed in the light of our victorious position in Christ. \nThis is the only course offered in the nation this year (2026) and is always taught live to stay relevant to the times we’re living in. Don’t miss your opportunity to grow in truth and strength — register today! \n  \nRegister \nDATES\nFriday\, June 19 to Sunday June 21\, 2026 \nLOCATION \nDelta Hotels by Marriott Helena Colonial\n2301 Colonial Drive\nHelena MT 59601\n(406) 443-2100 \nHOTEL ACCOMMODATIONS \nContact the hotel directly at (406) 443-2100 to reserve your room. Please ask for the event rate for Our Stand in Christ. \nRoom reservations are $190 per night (plus tax and fees) for a standard king or double queen to participants in this course. \nMEALS \nBreakfast \nRegistrants can purchase a breakfast at or near the hotel. \nLunch \nProvided for registrants \nSupper \nProvided for registrants \nGENERAL INFORMATION \nFor shuttle arrangements and other further inquiries\, please contact Ted Bidon at tbidon@yahoo.com or Ramona Bidon at ramonabidon@gmail.com. \nWe ask that you plan to arrive early at the location per schedule and bring a Bible and note-taking materials. Recordings of the course are not permitted. \nThank you\,\nOIKEOS Christian Network \nRegister
URL:https://oikeos.org/event/our-stand-in-christ-helena-mt/
LOCATION:Helena MT\, Delta Hotels by Marriott Helena Colonial\, Helena\, MT\, 59601\, United States
CATEGORIES:Courses,Our Stand in Christ
ATTACH;FMTTYPE=image/jpeg:https://oikeos.org/wp-content/uploads/2026/01/0e8000531_1540860439_our-stand-in-christ-1280x1080-1.jpg
ORGANIZER;CN="Ted and Ramona Bidon":MAILTO:tbidon@yahoo.com; ramonabidon@gmail.com
END:VEVENT
BEGIN:VEVENT
DTSTART;VALUE=DATE:20260725
DTEND;VALUE=DATE:20260801
DTSTAMP:20260421T101330
CREATED:20260313T175730Z
LAST-MODIFIED:20260330T211214Z
UID:10000109-1784937600-1785542399@oikeos.org
SUMMARY:Unplug and Connect Backcountry Experience Missoula\, MT
DESCRIPTION:Genesis 1:31-2:1: \nAnd God saw everything that he had made\, and\, behold\, it was very good. And the evening and the morning were the sixth day. \nThus the heavens and the earth were finished\, and all the host of them. \nCome to Missoula\, Montana July 25 – 31\, 2026\, for an adventure of unplugging from the world and connecting with God through nature. \nExperience the “very good” God intended\, as you share in the rich and diverse witness of God’s handiwork. This experience is designed\, not only to restore the soul\, but advance your vision of the Kingdom of God and His sovereignty and care for your life in wonderful Christian company. \nEnjoy hiking\, fishing\, wilderness and camping skills. in an uplifting environment designed to help you connect with God. This unique backpacking adventure\, in the mountains of Montana\, will be led by our experienced outdoorsman. \nParticipation is limited\, so register soon. \nIs this change of focus what you need to restore your soul and connect with your Heavenly Father? \nIf so\, then this unplug and connect adventure is for you. For more details\, please contact either Ted Bidon at (419) 733-4037 or tbidon@yahoo.com or Curt Belts (406) 544-4076 or cbelts@gmail.com.
URL:https://oikeos.org/event/unplug-and-connect-backcountry-experience-missoula-mt/
LOCATION:OH
CATEGORIES:Unplug & Connect
ATTACH;FMTTYPE=image/jpeg:https://oikeos.org/wp-content/uploads/2025/11/0e8454435_1551300379_dsc0316-2-scaled.jpg
ORGANIZER;CN="Curt Belts and Ted Bidon":MAILTO:cbelts@gmail.com; tbidon@yahoo.com
END:VEVENT
BEGIN:VEVENT
DTSTART;VALUE=DATE:20260822
DTEND;VALUE=DATE:20260824
DTSTAMP:20260421T101330
CREATED:20260313T180737Z
LAST-MODIFIED:20260314T135406Z
UID:10000110-1787356800-1787529599@oikeos.org
SUMMARY:Who Is Jesus Christ? Wakeman\, OH
DESCRIPTION:SAVE THE DATES \nMore information to follow. \n  \n 
URL:https://oikeos.org/event/who-is-jesus-christ-ohio/
LOCATION:Wakeman\, OH
CATEGORIES:Courses,Our Stand in Christ,Who is Jesus Christ?
ATTACH;FMTTYPE=image/jpeg:https://oikeos.org/wp-content/uploads/2026/01/who-is-jesus-christ.jpg
ORGANIZER;CN="Chris Brown":MAILTO:chris.brown@oikeos.org
END:VEVENT
BEGIN:VEVENT
DTSTART;VALUE=DATE:20261105
DTEND;VALUE=DATE:20261109
DTSTAMP:20260421T101330
CREATED:20260313T182032Z
LAST-MODIFIED:20260420T231450Z
UID:10000111-1793836800-1794182399@oikeos.org
SUMMARY:Unplug & Connect Road to Emmaus Experience Moab UT
DESCRIPTION:Unplug & Connect Road to Emmaus Experience Moab UT \n \n  \nStep away from the noise and join us for “Unplug and Connect\,” a refreshing hiking experience set in the breathtaking landscapes of southern Utah. As we journey together along scenic trails in Arches and Canyonlands National Parks\, our conversations will center on two powerful and unique days in the life and ministry of Jesus Christ. These moments reveal a profound transition—moving from the traditions of the Mosaic Law of the Old Testament toward the dawning of a new covenant rooted in grace. The trails will be moderate so that we can have thoughtful discussions on how these pivotal days helped prepare his followers for the coming age of Christianity and the transformative grace of God that would define it. \nRegister \nDATES\nNovember 5 – 8\, 2026 \n\nThursday\, November 5\n\nTravel to Utah and check in at the hotel\n\n\nFriday and Saturday\, November 6 and 7\n\nDay hikes in Arches and Canyonlands National Parks and dinner in Moab UT\n\n\nSunday\, November 8\n\nTravel home\n\n\n\n  \nREGISTRATION \n\n$25 fee\n\n  \nHOTEL INFORMATION\nFairfield by Marriott Inn & Suites Moab\n1863 N Highway 191\nMoab UT 84532\n(435) 259-5350 \n\nRooms have two queen beds\nComplimentary breakfast is included\nHotel Check-in time is 4:00 p.m.\nHotel check-out time is 11:00 a.m.\n\nEach participant is responsible for their own lodging arrangements. A discounted room rate has been secured for $127.00 per night plus tax. Reservations are made directly with the hotel and must be accompanied by a first-night room deposit. Rooms are available November 5-8\, and the discounted rate is available for those who would like to stay an extra night. \nPlease make your reservations no later than October 5\, 2026\, to receive the discounted room rate. \nBook your group rate for OIKEOS Christian Network \n  \nMEALS \n\nComplimentary breakfast is served from 6:00 a.m. to 9:30 a.m.\nPack a picnic lunch to eat on the trail.\nArrange for your own dinner at restaurants in Moab\n\n  \nGENERAL INFORMATION\nParticipants will be provided with an Event Essentials List. \nIf you have any questions\, please contact Connie Roubinet at connie.roubinet@oikeos.org or Robin Magnelli at robin.magnelli@oikeos.org. \nRegister
URL:https://oikeos.org/event/unplug-connect-road-to-emmaus-experience-moab-ut/
LOCATION:Fairfield by Marriott Inn & Suites Moab\, 1863 N. Highway 191\, Moab\, UT\, 84532\, United States
CATEGORIES:Unplug & Connect
ATTACH;FMTTYPE=image/jpeg:https://oikeos.org/wp-content/uploads/2026/03/80a948ee-700c-41f6-b05d-70c7d01eaa08.jpg
ORGANIZER;CN="Connie Roubinet and Robin Magnelli":MAILTO:connie.roubinet@oikeos.org; robin.magnelli@oikeos.org
END:VEVENT
END:VCALENDAR