BEGIN:VCALENDAR
VERSION:2.0
PRODID:-//Oikeos Christian Network - ECPv6.15.20//NONSGML v1.0//EN
CALSCALE:GREGORIAN
METHOD:PUBLISH
X-ORIGINAL-URL:https://oikeos.org
X-WR-CALDESC:Events for Oikeos Christian Network
REFRESH-INTERVAL;VALUE=DURATION:PT1H
X-Robots-Tag:noindex
X-PUBLISHED-TTL:PT1H
BEGIN:VTIMEZONE
TZID:America/New_York
BEGIN:DAYLIGHT
TZOFFSETFROM:-0500
TZOFFSETTO:-0400
TZNAME:EDT
DTSTART:20250309T070000
END:DAYLIGHT
BEGIN:STANDARD
TZOFFSETFROM:-0400
TZOFFSETTO:-0500
TZNAME:EST
DTSTART:20251102T060000
END:STANDARD
BEGIN:DAYLIGHT
TZOFFSETFROM:-0500
TZOFFSETTO:-0400
TZNAME:EDT
DTSTART:20260308T070000
END:DAYLIGHT
BEGIN:STANDARD
TZOFFSETFROM:-0400
TZOFFSETTO:-0500
TZNAME:EST
DTSTART:20261101T060000
END:STANDARD
BEGIN:DAYLIGHT
TZOFFSETFROM:-0500
TZOFFSETTO:-0400
TZNAME:EDT
DTSTART:20270314T070000
END:DAYLIGHT
BEGIN:STANDARD
TZOFFSETFROM:-0400
TZOFFSETTO:-0500
TZNAME:EST
DTSTART:20271107T060000
END:STANDARD
END:VTIMEZONE
BEGIN:VEVENT
DTSTART;TZID=America/New_York:20260516T090000
DTEND;TZID=America/New_York:20260517T120000
DTSTAMP:20260421T110040
CREATED:20260420T215240Z
LAST-MODIFIED:20260420T215240Z
UID:10000112-1778922000-1779019200@oikeos.org
SUMMARY:Who is Jesus Christ? Longmont CO
DESCRIPTION:WHAT YOU’LL BE LEARNING\nJesus Christ is the most admired and awe-inspiring figure in all of history — yet\, in many ways\, still the most misunderstood. Even during his days on earth\, people from every walk of life wondered and debated about who he truly was. \nJoin us for the “Who Is Jesus Christ?” course and experience a fresh perspective on the meaning behind the title “Lord Jesus Christ.” Discover how understanding this truth can transform you through faith and deepen your daily walk with God. \nDon’t miss this inspiring event in Longmont\, Colorado. Sign up today — and take the next step in discovering who Jesus Christ really is. \nDATES & LOGISTICS\nContact Ed Hobbs (ed.hobbs@oikeos.org) or Cathy Hobbs (cathy.hobbs@oikeos.org) to register. \nSaturday\, May 16\, 2026\, 9:00 a.m. – 4:00 p.m. MDT\nSunday\, May 17\, 2026\, 8:30 a.m. – 11:30 a.m. MDT \nLunch will be provided on Saturday. \nLOCATION \nFairfield by Marriott Inn & Suites Boulder Longmont\n1089 S. Hover St.\nLongmont CO 80501\n(303) 776-8050 \nGENERAL INFORMATION \nThis course has a participation limit of 30 people. It will be first come\, first served.  \nPlease register by Saturday\, May 9\, 2026. \nFor more information on this course or over site housing recommendations\, please contact Ed Hobbs at ed.hobbs@oikeos.org. \nWe ask that you plan to arrive early at the location per schedule and bring a Bible and note-taking materials. Recordings of the course are not permitted. \nThank you\,\nOIKEOS Christian Network
URL:https://oikeos.org/event/who-is-jesus-christ-longmont-co/
LOCATION:Fairfield by Marriott Inn & Suites Boulder Longmont CO\, 1089 S. Hover St.\, Longmont\, 80501\, United States
CATEGORIES:Courses,Who is Jesus Christ?
ATTACH;FMTTYPE=image/jpeg:https://oikeos.org/wp-content/uploads/2026/01/who-is-jesus-christ.jpg
ORGANIZER;CN="Ed Hobbs":MAILTO:ed.hobbs@oikeos.org
END:VEVENT
END:VCALENDAR