BEGIN:VCALENDAR
VERSION:2.0
PRODID:-//Oikeos Christian Network - ECPv6.15.20//NONSGML v1.0//EN
CALSCALE:GREGORIAN
METHOD:PUBLISH
X-WR-CALNAME:Oikeos Christian Network
X-ORIGINAL-URL:https://oikeos.org
X-WR-CALDESC:Events for Oikeos Christian Network
REFRESH-INTERVAL;VALUE=DURATION:PT1H
X-Robots-Tag:noindex
X-PUBLISHED-TTL:PT1H
BEGIN:VTIMEZONE
TZID:UTC
BEGIN:STANDARD
TZOFFSETFROM:+0000
TZOFFSETTO:+0000
TZNAME:UTC
DTSTART:20250101T000000
END:STANDARD
END:VTIMEZONE
BEGIN:VEVENT
DTSTART;VALUE=DATE:20260619
DTEND;VALUE=DATE:20260622
DTSTAMP:20260421T112428
CREATED:20260313T174047Z
LAST-MODIFIED:20260420T221406Z
UID:10000108-1781827200-1782086399@oikeos.org
SUMMARY:Our Stand in Christ Helena MT
DESCRIPTION:Our Stand in Christ is a powerful biblical education course designed to open your eyes to the reality of the spiritual competition between good and evil. Through this study\, you’ll gain a deeper understanding of our spiritual adversary — revealed and exposed in the light of our victorious position in Christ. \nThis is the only course offered in the nation this year (2026) and is always taught live to stay relevant to the times we’re living in. Don’t miss your opportunity to grow in truth and strength — register today! \n  \nRegister \nDATES\nFriday\, June 19 to Sunday June 21\, 2026 \nLOCATION \nDelta Hotels by Marriott Helena Colonial\n2301 Colonial Drive\nHelena MT 59601\n(406) 443-2100 \nHOTEL ACCOMMODATIONS \nContact the hotel directly at (406) 443-2100 to reserve your room. Please ask for the event rate for Our Stand in Christ. \nRoom reservations are $190 per night (plus tax and fees) for a standard king or double queen to participants in this course. \nMEALS \nBreakfast \nRegistrants can purchase a breakfast at or near the hotel. \nLunch \nProvided for registrants \nSupper \nProvided for registrants \nGENERAL INFORMATION \nFor shuttle arrangements and other further inquiries\, please contact Ted Bidon at tbidon@yahoo.com or Ramona Bidon at ramonabidon@gmail.com. \nWe ask that you plan to arrive early at the location per schedule and bring a Bible and note-taking materials. Recordings of the course are not permitted. \nThank you\,\nOIKEOS Christian Network \nRegister
URL:https://oikeos.org/event/our-stand-in-christ-helena-mt/
LOCATION:Helena MT\, Delta Hotels by Marriott Helena Colonial\, Helena\, MT\, 59601\, United States
CATEGORIES:Courses,Our Stand in Christ
ATTACH;FMTTYPE=image/jpeg:https://oikeos.org/wp-content/uploads/2026/01/0e8000531_1540860439_our-stand-in-christ-1280x1080-1.jpg
ORGANIZER;CN="Ted and Ramona Bidon":MAILTO:tbidon@yahoo.com; ramonabidon@gmail.com
END:VEVENT
END:VCALENDAR